BEGIN:VCALENDAR
VERSION:2.0
PRODID:-//Troop 226 - ECPv6.15.20//NONSGML v1.0//EN
CALSCALE:GREGORIAN
METHOD:PUBLISH
X-WR-CALNAME:Troop 226
X-ORIGINAL-URL:https://scouts226.org
X-WR-CALDESC:Events for Troop 226
REFRESH-INTERVAL;VALUE=DURATION:PT1H
X-Robots-Tag:noindex
X-PUBLISHED-TTL:PT1H
BEGIN:VTIMEZONE
TZID:America/New_York
BEGIN:DAYLIGHT
TZOFFSETFROM:-0500
TZOFFSETTO:-0400
TZNAME:EDT
DTSTART:20220313T070000
END:DAYLIGHT
BEGIN:STANDARD
TZOFFSETFROM:-0400
TZOFFSETTO:-0500
TZNAME:EST
DTSTART:20221106T060000
END:STANDARD
BEGIN:DAYLIGHT
TZOFFSETFROM:-0500
TZOFFSETTO:-0400
TZNAME:EDT
DTSTART:20230312T070000
END:DAYLIGHT
BEGIN:STANDARD
TZOFFSETFROM:-0400
TZOFFSETTO:-0500
TZNAME:EST
DTSTART:20231105T060000
END:STANDARD
BEGIN:DAYLIGHT
TZOFFSETFROM:-0500
TZOFFSETTO:-0400
TZNAME:EDT
DTSTART:20240310T070000
END:DAYLIGHT
BEGIN:STANDARD
TZOFFSETFROM:-0400
TZOFFSETTO:-0500
TZNAME:EST
DTSTART:20241103T060000
END:STANDARD
BEGIN:DAYLIGHT
TZOFFSETFROM:-0500
TZOFFSETTO:-0400
TZNAME:EDT
DTSTART:20250309T070000
END:DAYLIGHT
BEGIN:STANDARD
TZOFFSETFROM:-0400
TZOFFSETTO:-0500
TZNAME:EST
DTSTART:20251102T060000
END:STANDARD
END:VTIMEZONE
BEGIN:VEVENT
DTSTART;TZID=America/New_York:20241120T193000
DTEND;TZID=America/New_York:20241120T210000
DTSTAMP:20260422T131953
CREATED:20240924T021131Z
LAST-MODIFIED:20241125T030442Z
UID:2225-1732131000-1732136400@scouts226.org
SUMMARY:Scout Meeting - Tent Building & First Aid
DESCRIPTION:
URL:https://scouts226.org/calendar/scout-meeting-outdoor-ethics-wildlife-management-and-plants/
LOCATION:Congregation Beth Aaron\, 950 Queen Anne Rd\, Teaneck\, NJ\, 07666\, United States
CATEGORIES:Troop Meetings
ORGANIZER;CN="Shomer Shabbos Scouts%3A Troop 226":MAILTO:hello@scouts226.org
END:VEVENT
BEGIN:VEVENT
DTSTART;TZID=America/New_York:20241113T193000
DTEND;TZID=America/New_York:20241113T210000
DTSTAMP:20260422T131953
CREATED:20240912T015500Z
LAST-MODIFIED:20240924T021008Z
UID:2186-1731526200-1731531600@scouts226.org
SUMMARY:Scout Meeting - Pioneering
DESCRIPTION:
URL:https://scouts226.org/calendar/scout-meeting/
LOCATION:Congregation Beth Aaron\, 950 Queen Anne Rd\, Teaneck\, NJ\, 07666\, United States
CATEGORIES:Troop Meetings
ATTACH;FMTTYPE=image/jpeg:https://scouts226.org/wp-content/uploads/2024/08/OgGRF84YijNEVU5MWVuO3l-uYJachVCRGyCp2QOpRnA_plaintext_638561864165843321.jpg
ORGANIZER;CN="Shomer Shabbos Scouts%3A Troop 226":MAILTO:hello@scouts226.org
END:VEVENT
BEGIN:VEVENT
DTSTART;TZID=America/New_York:20241106T193000
DTEND;TZID=America/New_York:20241106T210000
DTSTAMP:20260422T131953
CREATED:20240912T014219Z
LAST-MODIFIED:20241125T030506Z
UID:2178-1730921400-1730926800@scouts226.org
SUMMARY:Scout Meeting - Foraging & Plants
DESCRIPTION:
URL:https://scouts226.org/calendar/scout-meeting-orienteering-map-and-compass/
LOCATION:Congregation Beth Aaron\, 950 Queen Anne Rd\, Teaneck\, NJ\, 07666\, United States
CATEGORIES:Troop Meetings
ORGANIZER;CN="Shomer Shabbos Scouts%3A Troop 226":MAILTO:hello@scouts226.org
END:VEVENT
BEGIN:VEVENT
DTSTART;TZID=America/New_York:20241030T193000
DTEND;TZID=America/New_York:20241030T210000
DTSTAMP:20260422T131953
CREATED:20240912T013637Z
LAST-MODIFIED:20240924T020906Z
UID:2174-1730316600-1730322000@scouts226.org
SUMMARY:Scout Meeting - Patrol Introductions
DESCRIPTION:
URL:https://scouts226.org/calendar/scout-meeting-patrol-introductions/
LOCATION:Congregation Beth Aaron\, 950 Queen Anne Rd\, Teaneck\, NJ\, 07666\, United States
CATEGORIES:Troop Meetings
ORGANIZER;CN="Shomer Shabbos Scouts%3A Troop 226":MAILTO:hello@scouts226.org
END:VEVENT
BEGIN:VEVENT
DTSTART;VALUE=DATE:20241009
DTEND;VALUE=DATE:20241010
DTSTAMP:20260422T131953
CREATED:20240811T154222Z
LAST-MODIFIED:20240925T005340Z
UID:1728-1728432000-1728518399@scouts226.org
SUMMARY:Open House / Court of Honor
DESCRIPTION:
URL:https://scouts226.org/calendar/open-house-court-of-honor/
LOCATION:Congregation Beth Aaron\, 950 Queen Anne Rd\, Teaneck\, NJ\, 07666\, United States
CATEGORIES:Court of Honor
ORGANIZER;CN="Shomer Shabbos Scouts%3A Troop 226":MAILTO:hello@scouts226.org
END:VEVENT
BEGIN:VEVENT
DTSTART;VALUE=DATE:20240928
DTEND;VALUE=DATE:20240930
DTSTAMP:20260422T131953
CREATED:20240811T154101Z
LAST-MODIFIED:20240924T011516Z
UID:1726-1727481600-1727654399@scouts226.org
SUMMARY:Local Troop Overnight / Sunday Troop Activity
DESCRIPTION:
URL:https://scouts226.org/calendar/local-troop-overnight-sunday-troop-activity/
LOCATION:NY
CATEGORIES:Campout
ORGANIZER;CN="Shomer Shabbos Scouts%3A Troop 226":MAILTO:hello@scouts226.org
END:VEVENT
BEGIN:VEVENT
DTSTART;TZID=America/New_York:20240925T193000
DTEND;TZID=America/New_York:20240925T210000
DTSTAMP:20260422T131953
CREATED:20240912T012038Z
LAST-MODIFIED:20240912T012612Z
UID:2162-1727292600-1727298000@scouts226.org
SUMMARY:Scout Meeting - Board of Review
DESCRIPTION:
URL:https://scouts226.org/calendar/meeting-9-25/
LOCATION:Congregation Beth Aaron\, 950 Queen Anne Rd\, Teaneck\, NJ\, 07666\, United States
CATEGORIES:Troop Meetings
ORGANIZER;CN="Shomer Shabbos Scouts%3A Troop 226":MAILTO:hello@scouts226.org
END:VEVENT
BEGIN:VEVENT
DTSTART;VALUE=DATE:20240922
DTEND;VALUE=DATE:20240923
DTSTAMP:20260422T131953
CREATED:20240811T153812Z
LAST-MODIFIED:20240915T180734Z
UID:1724-1726963200-1727049599@scouts226.org
SUMMARY:Cemetery Clean Up - Chessed Project
DESCRIPTION:
URL:https://scouts226.org/calendar/cemetery-clean-up-2024/
LOCATION:NY
CATEGORIES:Chessed
ORGANIZER;CN="Shomer Shabbos Scouts%3A Troop 226":MAILTO:hello@scouts226.org
END:VEVENT
BEGIN:VEVENT
DTSTART;TZID=America/New_York:20240918T193000
DTEND;TZID=America/New_York:20240918T210000
DTSTAMP:20260422T131953
CREATED:20240912T012230Z
LAST-MODIFIED:20240912T012810Z
UID:2165-1726687800-1726693200@scouts226.org
SUMMARY:Scout Meeting - Emergency Preparedness
DESCRIPTION:
URL:https://scouts226.org/calendar/meeting-9-18/
LOCATION:Congregation Beth Aaron\, 950 Queen Anne Rd\, Teaneck\, NJ\, 07666\, United States
CATEGORIES:Troop Meetings
ORGANIZER;CN="Shomer Shabbos Scouts%3A Troop 226":MAILTO:hello@scouts226.org
END:VEVENT
BEGIN:VEVENT
DTSTART;VALUE=DATE:20240830
DTEND;VALUE=DATE:20240903
DTSTAMP:20260422T131953
CREATED:20240811T153453Z
LAST-MODIFIED:20240811T200250Z
UID:1722-1724976000-1725321599@scouts226.org
SUMMARY:Kit Kat Camporee
DESCRIPTION:Announcing Kit Kat Camporee – Labor Day Weekend Friday\, August 30th to Monday\, September 2nd. HVSR \nDear Scouts and Scouters\, \nBack by popular demand for a second year is the Kit Kat Camporee. And it is now open for registration. \nDate: Friday\, August 30th through Monday\, September 2nd. (Labor Day)\nAudience: Registered Scouts and Registered Leaders Only.\nCost: $100 per attendee. \nThe Event will take place at Hidden Valley Scout Reservation\, Loysville Pennsylvania \nPlease contact Scoutmaster Daniel Chazin if you are interested. (201) 835-5338
URL:https://scouts226.org/calendar/kit-kat-camporee-2024/
LOCATION:Hidden Valley Scout Reservation\, 268 Hidden Valley Rd\, Loysville\, PA\, 17047\, United States
CATEGORIES:Campout,Friends of Shomer Shabbat Scouting,Intertroop
END:VEVENT
BEGIN:VEVENT
DTSTART;VALUE=DATE:20240707
DTEND;VALUE=DATE:20240722
DTSTAMP:20260422T131953
CREATED:20240228T063455Z
LAST-MODIFIED:20240403T225331Z
UID:1276-1720310400-1721606399@scouts226.org
SUMMARY:Forestburg Shomer Shabbat Contingent 2024
DESCRIPTION:Troop 55 will be attending Forestburg Scout Reservation run by Monmouth Council located in\nForestburgh\, NY for two weeks\, July 7-14 and July 14-21 and welcomes scouts from other units\nto participate with them. Although the camp is not kosher\, supervised kosher food will be\navailable during the period of our attendance.\nForestburg has two programs\, Regular Scout Camp and a high adventure program\, Darlington\nAdventure. In the Regular Scout Camp\, campers participate in Scout skill and merit badge\nclasses. In the Darlington Adventure Program\, campers participate in high adventure activities\nsuch as backpacking\, canoeing\, and rock climbing/rappelling. The program will be conducted\ntotally within the camp property and is available to First Class (or above) Scouts who are 14 and\nolder. The cost for both programs is the same.\nBecause class sizes are limited\, it is very important to register early (even without payment)\nso that classes may be selected.\nThe price is $650 per week. However\, there are two discounts:\n A discount of $45 per week is available if full payment is made by May 3.\n Scouts attending both weeks will receive a $40 discount for the second week.\nFamilies who might need financial assistance should contact Sheldon Freidenreich before March\n15. Payment after June 1 will result in a $40 late fee.\nChecks should be made out to “Troop 55 BSA”.\nFor further information\, feel free to call me.\nSheldon Freidenreich – 732-572-2568\n______________________________________________________\nMy son ____________________________________________ will be going to Forestburg\nScout Reservation for:\nJuly 7-14: ____ July 14-21: ____ \n________________________________\nSignature of Parent
URL:https://scouts226.org/calendar/forestburg-shomer-shabbat-contingent-2024/
LOCATION:Forestburg Scout Reservation\, 1945 NY-42\, Forestburgh\, NY\, 12777\, United States
CATEGORIES:Scout Camp
END:VEVENT
BEGIN:VEVENT
DTSTART;VALUE=DATE:20240627
DTEND;VALUE=DATE:20240712
DTSTAMP:20260422T131953
CREATED:20231229T212443Z
LAST-MODIFIED:20240228T062651Z
UID:1009-1719446400-1720742399@scouts226.org
SUMMARY:National Jewish Philmont Treks 2024
DESCRIPTION:Here us the info flier: \nPhilmont 2024 Final
URL:https://scouts226.org/calendar/national-jewish-philmont-treks-2024/
LOCATION:Philmont Scout Ranch\, 17 Deer Run Rd\, Cimarron\, NM\, 87714\, United States
CATEGORIES:Scout Camp
END:VEVENT
BEGIN:VEVENT
DTSTART;TZID=America/New_York:20240619T193000
DTEND;TZID=America/New_York:20240619T210000
DTSTAMP:20260422T131953
CREATED:20240211T193110Z
LAST-MODIFIED:20240417T010917Z
UID:1240-1718825400-1718830800@scouts226.org
SUMMARY:Court of Honor - June 2024
DESCRIPTION:
URL:https://scouts226.org/calendar/court-of-honor-june-2024/
LOCATION:Jewish Center of Teaneck\, 70 Sterling Pl\, Teaneck\, NJ\, 07666\, United States
CATEGORIES:Advancement,Court of Honor
ORGANIZER;CN="Shomer Shabbos Scouts%3A Troop 226":MAILTO:hello@scouts226.org
END:VEVENT
BEGIN:VEVENT
DTSTART;VALUE=DATE:20240609
DTEND;VALUE=DATE:20240610
DTSTAMP:20260422T131953
CREATED:20240515T180748Z
LAST-MODIFIED:20240515T180748Z
UID:1407-1717891200-1717977599@scouts226.org
SUMMARY:Sailing Trip - June 2024
DESCRIPTION:Time TBD
URL:https://scouts226.org/calendar/sailing-trip-june-2024/
LOCATION:NY
END:VEVENT
BEGIN:VEVENT
DTSTART;TZID=America/New_York:20240605T193000
DTEND;TZID=America/New_York:20240605T210000
DTSTAMP:20260422T131953
CREATED:20240228T060715Z
LAST-MODIFIED:20240417T010848Z
UID:1264-1717615800-1717621200@scouts226.org
SUMMARY:Board of Review - June 2024
DESCRIPTION:
URL:https://scouts226.org/calendar/board-of-review-june-2024/
LOCATION:Jewish Center of Teaneck\, 70 Sterling Pl\, Teaneck\, NJ\, 07666\, United States
CATEGORIES:Advancement,Board of Review
ORGANIZER;CN="Shomer Shabbos Scouts%3A Troop 226":MAILTO:hello@scouts226.org
END:VEVENT
BEGIN:VEVENT
DTSTART;TZID=America/New_York:20240529T190000
DTEND;TZID=America/New_York:20240529T210000
DTSTAMP:20260422T131953
CREATED:20240417T011944Z
LAST-MODIFIED:20240515T003632Z
UID:1351-1717009200-1717016400@scouts226.org
SUMMARY:Special Swim Meeting
DESCRIPTION:
URL:https://scouts226.org/calendar/special-swim-meeting/
LOCATION:NY
ORGANIZER;CN="Shomer Shabbos Scouts%3A Troop 226":MAILTO:hello@scouts226.org
END:VEVENT
BEGIN:VEVENT
DTSTART;VALUE=DATE:20240524
DTEND;VALUE=DATE:20240528
DTSTAMP:20260422T131953
CREATED:20231229T211515Z
LAST-MODIFIED:20240403T225447Z
UID:1004-1716508800-1716854399@scouts226.org
SUMMARY:NE Region Jewish Scouting Kinus 2024
DESCRIPTION:Kinus is back for 2024! \nSAVE THE DATE:  May 24-27\, 2024 Memorial Day weekend. \nThe 2024 Northeast Region Kinus will be at an exciting new location: Hidden Valley Scout Reserve located in Loysville\, PA (outside of Harrisburg\, PA) \nDue to new BSA rules\, attendance is restricted to: \n·        BSA Registered Scouts BSA members \n·        BSA Registered adults \n·        Registered Cub Scouts and their family (Due to BSA rules\, Cubs are only allowed to stay for 2 nights) \nCOSTS: \n·        $110 – Two days \n·        $135 – The entire weekend – Only Scouts BSA members and Registered adults will be allowed to stay the entire weekend. \nAll registration will be handled at the unit level so let your unit leaders know you want to attend.  Further information on registration will be provided when available. \nNote for Scoutmasters:  Please find out what merit badges your scouts would like to work on so we can try to have those available. \nPlease direct any questions to sfreidenreich@gmail.com and they will be forwarded to the appropriate committee member.  The planning committee is also looking for additional members.
URL:https://scouts226.org/calendar/ne-region-jewish-scouting-kinus-2024/
LOCATION:Hidden Valley Scout Reservation\, 268 Hidden Valley Rd\, Loysville\, PA\, 17047\, United States
CATEGORIES:Friends of Shomer Shabbat Scouting
END:VEVENT
BEGIN:VEVENT
DTSTART;TZID=America/New_York:20240317T130000
DTEND;TZID=America/New_York:20240317T163000
DTSTAMP:20260422T131953
CREATED:20240229T023311Z
LAST-MODIFIED:20240508T010218Z
UID:1278-1710680400-1710693000@scouts226.org
SUMMARY:Hike on Indian Rock/Wanaque Ridge Trail Loop from Back Beach Park
DESCRIPTION:Length: 5.8 miles\n\n\nDifficulty: Moderate\n\n\nTime: 3.5 hours\n\n\nRoute type: Lollipop\n\n\nDogs: Allowed on leash\n\n\nFeatures: Public Transportation\, Views\n\n\nPark: Ramapo Mountain State Forest\n\n\nGPS: 41.03463\, -74.28553\n\n\nPublication Date: 10/12/2007\n\n\nUpdate/Verification Date: 07/14/2020\n\n\nAuthor: Daniel Chazin\n\n\nTC maintained\n\n\nDirections to trailhead\n\nTake I-287 south to Exit 55 (Wanaque/Pompton Lakes). Turn right at the bottom of the ramp onto Union Avenue\, then turn left at the next light onto Ringwood Avenue (County 511). Continue for 0.7 mile to the next light\, and turn right onto Second Avenue. At a “stop” sign in 0.3 mile\, turn left onto the Boulevard. At the next intersection\, bear right to continue on Fourth Avenue. In 0.2 mile\, where Fourth Avenue bears left\, continue straight ahead on Back Beach Road and follow it to its end at a large parking area in Back Beach Park. \nhttps://www.nynjtc.org/hike/indian-rockwanaque-ridge-trail-loop
URL:https://scouts226.org/calendar/hike-on-indian-rock-wanaque-ridge-trail-loop-from-back-beach-park/
LOCATION:Ramapo Mountain State Forest\, Hiking Trail Parking Lot\, Oakland\, NJ\, 07436\, United States
CATEGORIES:Hike
ATTACH;FMTTYPE=image/jpeg:https://scouts226.org/wp-content/uploads/2024/02/IMG_5935.jpeg
ORGANIZER;CN="Shomer Shabbos Scouts%3A Troop 226":MAILTO:hello@scouts226.org
END:VEVENT
BEGIN:VEVENT
DTSTART;TZID=America/New_York:20240224T193000
DTEND;TZID=America/New_York:20240224T203000
DTSTAMP:20260422T131953
CREATED:20231229T211758Z
LAST-MODIFIED:20240228T062935Z
UID:1006-1708803000-1708806600@scouts226.org
SUMMARY:Scout Havdalah 2024
DESCRIPTION:
URL:https://scouts226.org/calendar/scout-havdalah/
LOCATION:NY
CATEGORIES:Friends of Shomer Shabbat Scouting
END:VEVENT
BEGIN:VEVENT
DTSTART;TZID=America/New_York:20240218T100000
DTEND;TZID=America/New_York:20240218T130000
DTSTAMP:20260422T131953
CREATED:20240131T020911Z
LAST-MODIFIED:20240216T190719Z
UID:1178-1708250400-1708261200@scouts226.org
SUMMARY:Geocaching Hike
DESCRIPTION:Loop Hike South of State Line Lookout\n\nLength: 3.0 miles\n\n\nDifficulty: Easy to Moderate\n\n\nTime: 2.0 hours\n\n\nRoute type: Circuit\n\n\nDogs: Allowed on leash\n\n\nFeatures: Historic feature\, Views\n\n\nOther Features: Cliffs\n\n\nPark: Palisades Interstate Park – New Jersey Section\n\n\nGPS: 40.988702\, -73.907154\n\n\nPublication Date: 12/30/2010\n\n\nUpdate/Verification Date: 10/03/2023\n\n\nAuthor: Daniel Chazin\n\n\nTC maintained\n\n\nDirections to trailhead\n\nTake the Palisades Interstate Parkway north from the George Washington Bridge. Continue for 1.7 miles beyond Exit 2\, and turn right at a sign for the State Line Lookout. Follow the access road for about half a mile until it ends at a large parking lot near the lookout. (If you are coming from the north on the Parkway\, bear left just beyond Exit 3 and follow the signs for the lookout.) Metered parking is now in effect at the State Line Lookout (except for Wednesdays and some holidays). The first hour is free (if you register when you park); subsequent hours are $1.50 per hour on weekdays and $2.50 per hour on weekends.
URL:https://scouts226.org/calendar/geocaching-hike-cookout/
LOCATION:State Line Lookout\, Palisades Interstate Park Commission\, State Line Lookout\, Closter\, 07624\, United States
CATEGORIES:Hike
ORGANIZER;CN="Shomer Shabbos Scouts%3A Troop 226":MAILTO:hello@scouts226.org
END:VEVENT
BEGIN:VEVENT
DTSTART;VALUE=DATE:20240216
DTEND;VALUE=DATE:20240220
DTSTAMP:20260422T131953
CREATED:20231229T211317Z
LAST-MODIFIED:20240228T063009Z
UID:1001-1708041600-1708387199@scouts226.org
SUMMARY:Kosher Klondike
DESCRIPTION:
URL:https://scouts226.org/calendar/kosher-klondike/
LOCATION:NY
CATEGORIES:Friends of Shomer Shabbat Scouting
END:VEVENT
BEGIN:VEVENT
DTSTART;TZID=America/New_York:20240204T130000
DTEND;TZID=America/New_York:20240204T210000
DTSTAMP:20260422T131953
CREATED:20240108T124434Z
LAST-MODIFIED:20240228T061924Z
UID:1098-1707051600-1707080400@scouts226.org
SUMMARY:Ski Trip
DESCRIPTION:Our troop Ski Trip will take place on 2/4/24\, leaving Teaneck around 1:00 PM to Mountain Creek. Families are encouraged to register for family members to attend. Cost will be around $120 per person for lift ticket\, rental and lesson (age 7 and up). Younger kids can come but we’ll need to arrange that separately.
URL:https://scouts226.org/calendar/ski-trip/
LOCATION:Mountain Creek\, 200 Route 94\, Vernon Township\, NJ\, 07462\, United States
ORGANIZER;CN="Shomer Shabbos Scouts%3A Troop 226":MAILTO:hello@scouts226.org
END:VEVENT
BEGIN:VEVENT
DTSTART;TZID=America/New_York:20231231T133000
DTEND;TZID=America/New_York:20231231T160000
DTSTAMP:20260422T131953
CREATED:20231229T193140Z
LAST-MODIFIED:20240228T063044Z
UID:994-1704029400-1704038400@scouts226.org
SUMMARY:Hike on Carpenters' Trail/Dyckman Hill Trail Loop
DESCRIPTION:Carpenters’ Trail/Dyckman Hill Trail Loop from Englewood Boat Basin\n\nLength: 3.6 miles\n\n\nDifficulty: Moderate\n\n\nTime: 2.5 hours\n\n\nRoute type: Circuit\n\n\nDogs: Allowed on leash\n\n\nFeatures: Fees\, Views\n\n\nOther Features: Cliffs\n\n\nPark: Palisades Interstate Park – New Jersey Section\n\n\nGPS: 40.881157\, -73.945073\n\n\nPublication Date: 11/14/2002\n\n\nUpdate/Verification Date: 06/12/2023\n\n\nAuthor: Daniel Chazin\n\n\nTC maintained\n\n\nRead full description\nhttps://www.nynjtc.org/hike/print/217
URL:https://scouts226.org/calendar/hike-on-carpenters-trail-dyckman-hill-trail-loop/
LOCATION:Englewood Boat Basin\, Englewood Boat Basin\, Englewood Cliffs\, NJ\, 07632\, United States
CATEGORIES:Hike
ATTACH;FMTTYPE=image/jpeg:https://scouts226.org/wp-content/uploads/2023/12/IMG_0970_0.jpeg
ORGANIZER;CN="Shomer Shabbos Scouts%3A Troop 226":MAILTO:hello@scouts226.org
END:VEVENT
END:VCALENDAR